BEGIN:VCALENDAR
VERSION:2.0
PRODID:-//eventon.com NONSGML v1.0//EN
CALSCALE:GREGORIAN
METHOD:PUBLISH
BEGIN:VEVENT
UID:69e734b36c1ec
DTSTAMP:20260421T082627Z
DTSTART:20240913T230000Z
DTEND:20240914T020000Z
LOCATION:Art Event
SUMMARY:The Opening Reception of October Sharify’s\,   <i>AUTOMATA   </i>
DESCRIPTION:Attend the opening reception for October Sharify’s AUTOMATA o
 n Friday\,  September 13\,  from 6:00-9:00pm. AUTOMATA is a body of work th
 at explores the mind\,  body\,  and soul as it relates to the impending tec
 hnological future\,  and what that means for human spirituality. How does s
 pirituality move through a future where[..]\nhttps://epiphanychi.com/the-op
 ening-reception-of-october-sharifys-automata/
URL:https://epiphanychi.com/the-opening-reception-of-october-sharifys-automata/
END:VEVENT
END:VCALENDAR