BEGIN:VCALENDAR
VERSION:2.0
PRODID:-//eventon.com NONSGML v1.0//EN
CALSCALE:GREGORIAN
METHOD:PUBLISH
BEGIN:VEVENT
UID:69e8e8166cf9f
DTSTAMP:20260422T152406Z
DTSTART:20241007T000000Z
DTEND:20241007T013000Z
LOCATION:Epiphany Center For The Arts: The Sanctuary 201 S Ashland Ave\,  Chicago\,  IL 60607
SUMMARY:Jazz Cats Cabaret
DESCRIPTION:Jazz Cats Cabaret Date: Sunday\,  October 6th Doors: 6PM Showti
 me: 7PM Tickets: General Admission- $30 | VIP Table for 2- $70 | VIP Table 
 for 4- $140 About: Anne Burnell and Mark Burnell host the debut night of th
 eir new series "Jazz Cats Cabaret " where jazz musicians and singers are[.
 .]\nhttps://epiphanychi.com/events/jazz-cats-cabaret/
URL:https://epiphanychi.com/events/jazz-cats-cabaret/
END:VEVENT
END:VCALENDAR