BEGIN:VCALENDAR
VERSION:2.0
PRODID:-//eventon.com NONSGML v1.0//EN
CALSCALE:GREGORIAN
METHOD:PUBLISH
BEGIN:VEVENT
UID:69ea571f526a5
DTSTAMP:20260423T173007Z
DTSTART:20241026T020000Z
DTEND:20241026T070000Z
LOCATION:Epiphany Center For The Arts: Epiphany Hall 201 S Ashland Ave\,  Chicago\,  IL 60607
SUMMARY:CREAMATORIUM
DESCRIPTION:CREAMATORIUM Date: Friday\,  October 25th\,  2024 Doors: 8PM Sh
 owtime: 9PM Tickets: Early Bird- $20 | Advanced- $25 | Day Of- $30 NO RE-EN
 TRY ‘Service charges apply to ALL ticket purchases (online and box office
 )’ - Credit card only at door About: Abandon all hope\,  ye who enter her
  ❤️‍🔥 Welcome[..]\nhttps://epiphanychi.com/events/creamatorium/
URL:https://epiphanychi.com/events/creamatorium/
END:VEVENT
END:VCALENDAR