BEGIN:VCALENDAR
VERSION:2.0
PRODID:-//eventon.com NONSGML v1.0//EN
CALSCALE:GREGORIAN
METHOD:PUBLISH
BEGIN:VEVENT
UID:69eb0257f1a80
DTSTAMP:20260424T054039Z
DTSTART:20250113T003000Z
DTEND:20250113T033000Z
LOCATION:Epiphany Center For The Arts: Epiphany Hall 201 S Ashland Ave\,  Chicago\,  IL 60607
SUMMARY:Civic Fellows ft. D-Composed
DESCRIPTION:Civic Fellows ft. D-Composed Date: Sunday\,  January 12th\,  20
 25 Doors: 5:30PM Showtime: 6:30PM Tickets: Free admission! About: From Folk
  to Fusion: The Universal Groove  Be delighted and inspired by this contem
 porary chamber music concert curated and performed by the Civic Fellows —
  featuring musicians from the Chicago-based Black chamber music[..]\nhttps:
 //epiphanychi.com/events/civic-fellows-ft-d-composed/
URL:https://epiphanychi.com/events/civic-fellows-ft-d-composed/
END:VEVENT
END:VCALENDAR