BEGIN:VCALENDAR
VERSION:2.0
PRODID:-//eventon.com NONSGML v1.0//EN
CALSCALE:GREGORIAN
METHOD:PUBLISH
BEGIN:VEVENT
UID:69e734591ffbf
DTSTAMP:20260421T082457Z
DTSTART:20250504T003000Z
DTEND:20250504T045900Z
LOCATION:Epiphany Center For The Arts: The Sanctuary 201 S Ashland Ave\,  Chicago\,  IL 60607
SUMMARY:Confessions of a Contralto: A Filipina’s Life in Song
DESCRIPTION:Confessions of a Contralto: A Filipina’s Life in Song Date: S
 aturday\,  May 3rd\,  2025 Doors: 5PM for Golden Hour Showtime: 7:30PM Tick
 ets: Advanced- $35 | VIP Table for 2- $90 | VIP Table for 4- $160 ‘Servic
 e charges apply to ALL ticket purchases (online and box office)’ - Credit
  card[..]\nhttps://epiphanychi.com/events/samasama-project/
URL:https://epiphanychi.com/events/samasama-project/
END:VEVENT
END:VCALENDAR