BEGIN:VCALENDAR
VERSION:2.0
PRODID:-//eventon.com NONSGML v1.0//EN
CALSCALE:GREGORIAN
METHOD:PUBLISH
BEGIN:VEVENT
UID:69e749e66460c
DTSTAMP:20260421T095654Z
DTSTART:20250125T000000Z
DTEND:20250125T030000Z
LOCATION:Art Event
SUMMARY:The Opening Reception of John Behnke’s\,  <br><i>   FALSE GUIDES  </i>
DESCRIPTION:Attend the opening reception for John Behnke’s FALSE GUIDES o
 n Friday\,  January 24\,  from 6:00-9:00pm. False Guides presents frozen m
 oments from three interlocking stories of striving\,  deception\,  and perd
 ition. John Behnke uses a rich mix of materials - colored pencils\,  alcoho
 l markers\,  acrylics\,  oils\,  glaze\,  and glitter - layered to build[..
 ]\nhttps://epiphanychi.com/the-opening-reception-of-john-behnkes-false-guid
 es/
URL:https://epiphanychi.com/the-opening-reception-of-john-behnkes-false-guides/
END:VEVENT
END:VCALENDAR