BEGIN:VCALENDAR
VERSION:2.0
PRODID:-//eventon.com NONSGML v1.0//EN
CALSCALE:GREGORIAN
METHOD:PUBLISH
BEGIN:VEVENT
UID:69e7419c5ba7f
DTSTAMP:20260421T092132Z
DTSTART:19700101T060000Z
DTEND:19700101T060000Z
LOCATION:Epiphany Center For The Arts: Epiphany Hall 201 S Ashland Ave\,  Chicago\,  IL 60607
SUMMARY:Free Blues Friday featuring Dave Specter
DESCRIPTION:Free Blues Friday featuring Dave Specter Date: Friday\,  Februa
 ry 28th\,  2025 Doors: 5PM for Golden Hour  Showtime: 7:30PM  Tickets: Fr
 ee admission! RSVP BELOW About: Dave Specter has earned an international re
 putation as one of the premier talents on the Chicago music scene. Since 19
 85 Specter has performed regularly at top[..]\nhttps://epiphanychi.com/even
 ts/free-blues-friday-featuring-dave-specter/
URL:https://epiphanychi.com/events/free-blues-friday-featuring-dave-specter/
END:VEVENT
END:VCALENDAR