BEGIN:VCALENDAR
VERSION:2.0
PRODID:-//eventon.com NONSGML v1.0//EN
CALSCALE:GREGORIAN
METHOD:PUBLISH
BEGIN:VEVENT
UID:69e7340b570bd
DTSTAMP:20260421T082339Z
DTSTART:20250131T013000Z
DTEND:20250131T043000Z
LOCATION:Epiphany Center For The Arts: The Sanctuary 201 S Ashland Ave\,  Chicago\,  IL 60607
SUMMARY:Steve Gibons and Gabriel Datcu in Concert
DESCRIPTION:Steve Gibons and Gabriel Datcu in Concert Date: Thursday\,  Jan
 uary 30th\,  2025 Doors: 5PM for Golden Hour | 7PM to the Sanctuary Showtim
 e: 7:30PM Tickets: Advanced- $20 | Day of Show- $25 | VIP Table for 2- $60 
 | VIP Table for 4- $120 ‘Service charges apply to ALL ticket[..]\nhttps:/
 /epiphanychi.com/events/steve-gibons-and-gabriel-datcu-in-concert/
URL:https://epiphanychi.com/events/steve-gibons-and-gabriel-datcu-in-concert/
END:VEVENT
END:VCALENDAR