BEGIN:VCALENDAR
VERSION:2.0
PRODID:-//eventon.com NONSGML v1.0//EN
CALSCALE:GREGORIAN
METHOD:PUBLISH
BEGIN:VEVENT
UID:69e733e2e6c34
DTSTAMP:20260421T082258Z
DTSTART:20250202T030000Z
DTEND:20250202T060000Z
LOCATION:Epiphany Center For The Arts: The Catacombs 201 S Ashland Ave\,  Chicago\,  IL 60607
SUMMARY:Lake Effect presents I've Dreamt of You a Thousand Times Release Party
DESCRIPTION:Lake Effect presents I've Dreamt of You a Thousand Times Releas
 e Party Date: Saturday\,  February 1st\,  2025 Doors: 8PM Showtime: 9PM Tic
 kets: Advanced- $15 | Day Of- $20 ‘Service charges apply to ALL ticket pu
 rchases (online and box office)’ - Credit card only at door About:   Nig
 ht summary Lake[..]\nhttps://epiphanychi.com/events/lake-effect-presents-iv
 e-dreamt-of-you-a-thousand-times-release-party/
URL:https://epiphanychi.com/events/lake-effect-presents-ive-dreamt-of-you-a-thousand-times-release-party/
END:VEVENT
END:VCALENDAR