BEGIN:VCALENDAR
VERSION:2.0
PRODID:-//eventon.com NONSGML v1.0//EN
CALSCALE:GREGORIAN
METHOD:PUBLISH
BEGIN:VEVENT
UID:69ea4019b1df5
DTSTAMP:20260423T155153Z
DTSTART:20250426T230000Z
DTEND:20250427T070000Z
LOCATION:Epiphany Center For The Arts: Epiphany Hall 201 S Ashland Ave\,  Chicago\,  IL 60607
SUMMARY:Vampire's Ball
DESCRIPTION:Vampire's Ball SOLD OUT! NO TICKETS AVAILABLE AT DOOR!  Date: 
 Saturday\,  April 26th\,  2025 Doors: 6PM Showtime: 7PM NO RE-ENTRY ‘Serv
 ice charges apply to ALL ticket purchases (online and box office)’ - Cred
 it card only at door About:  VAMPIRE’S BALL 2025 🦇 3 FLOORS OF BLOODL
 UST 🩸 with.. Twin Tribes[..]\nhttps://epiphanychi.com/events/vampires-ba
 ll/
URL:https://epiphanychi.com/events/vampires-ball/
END:VEVENT
END:VCALENDAR