BEGIN:VCALENDAR
VERSION:2.0
PRODID:-//eventon.com NONSGML v1.0//EN
CALSCALE:GREGORIAN
METHOD:PUBLISH
BEGIN:VEVENT
UID:69e7447d9ee8e
DTSTAMP:20260421T093349Z
DTSTART:20250221T013000Z
DTEND:20250221T040000Z
LOCATION:Epiphany Center For The Arts: Epiphany Hall 201 S Ashland Ave\,  Chicago\,  IL 60607
SUMMARY:Folkus & Tiwa Bleu
DESCRIPTION:Folkus &amp; Tiwa Bleu Date: Thursday\,  February 20th\,  2025 
 Doors: 5PM for Golden Hour | 7PM to the Hall Showtime: 7:30PM Tickets: Adva
 nced- $20 | Day of Show- $25 ‘Service charges apply to ALL ticket purchas
 es (online and box office)’ - Credit card only at door About Tiwa Bleu: T
 iwa[..]\nhttps://epiphanychi.com/events/folkus-tiwa-bleu/
URL:https://epiphanychi.com/events/folkus-tiwa-bleu/
END:VEVENT
END:VCALENDAR