BEGIN:VCALENDAR
VERSION:2.0
PRODID:-//eventon.com NONSGML v1.0//EN
CALSCALE:GREGORIAN
METHOD:PUBLISH
BEGIN:VEVENT
UID:69e7341dbde25
DTSTAMP:20260421T082357Z
DTSTART:20250223T013000Z
DTEND:20250223T050000Z
LOCATION:Epiphany Center For The Arts: The Sanctuary 201 S Ashland Ave\,  Chicago\,  IL 60607
SUMMARY:House of Beats Vol. 5
DESCRIPTION:House of Beats Vol. 5 Date: Saturday\,  February 22nd\,  2025 D
 oors: 5PM for Golden Hour  Showtime: 8PM  Tickets: Free admission! RSVP B
 ELOW Golden Hour at Epiphany: Stop by Epiphany for our live music series co
 ncerts\,  and be sure to hit Golden Hour before-hand for drinks and lite-bi
 tes! Doors open at[..]\nhttps://epiphanychi.com/events/house-of-beats-vol-5
 /
URL:https://epiphanychi.com/events/house-of-beats-vol-5/
END:VEVENT
END:VCALENDAR