BEGIN:VCALENDAR
VERSION:2.0
PRODID:-//eventon.com NONSGML v1.0//EN
CALSCALE:GREGORIAN
METHOD:PUBLISH
BEGIN:VEVENT
UID:69ecec573e35e
DTSTAMP:20260425T163119Z
DTSTART:20250322T003000Z
DTEND:20250322T030000Z
LOCATION:Epiphany Center For The Arts: Epiphany Hall 201 S Ashland Ave\,  Chicago\,  IL 60607
SUMMARY:Dorothy Roberson Performs A Tribute to Tina Turner
DESCRIPTION:Dorothy Roberson Performs A Tribute to Tina Turner Date: Friday
 \,  March 21st\,  2025 Doors: 5PM fo Golden Hour | 7PM to the Hall Showtime
 : 7:30PM Tickets: General Admission- $20 | Day of Show- $25 | VIP Table for
  2- $60 | VIP Table for 4- $120 (VIP Tables SOLD OUT)[..]\nhttps://epiphany
 chi.com/events/dorothy-roberson-performs-a-tribute-to-tina-turner-3-21/
URL:https://epiphanychi.com/events/dorothy-roberson-performs-a-tribute-to-tina-turner-3-21/
END:VEVENT
END:VCALENDAR