BEGIN:VCALENDAR
VERSION:2.0
PRODID:-//eventon.com NONSGML v1.0//EN
CALSCALE:GREGORIAN
METHOD:PUBLISH
BEGIN:VEVENT
UID:69e89110d4257
DTSTAMP:20260422T091248Z
DTSTART:20250228T230000Z
DTEND:20250301T020000Z
LOCATION:Epiphany Center For The Arts: The Sanctuary 201 S Ashland Ave\,  Chicago\,  IL 60607
SUMMARY:Golden Hour featuring DJ Devonn
DESCRIPTION:Join us in the Cafe Bar Thursday through Saturday for free live
  music\,  starting at 5PM until 8PM. Enjoy our exclusive food and drink spe
 cials until 7PM! Golden Hour at Epiphany Center for the Arts is accentuated
  by free live music with food and drink specials\,  and\,  good friends… 
 creating[..]\nhttps://epiphanychi.com/events/golden-hour-featuring-dj-devon
 n/
URL:https://epiphanychi.com/events/golden-hour-featuring-dj-devonn/
END:VEVENT
END:VCALENDAR