BEGIN:VCALENDAR
VERSION:2.0
PRODID:-//eventon.com NONSGML v1.0//EN
CALSCALE:GREGORIAN
METHOD:PUBLISH
BEGIN:VEVENT
UID:69e9d028d52cc
DTSTAMP:20260423T075416Z
DTSTART:20250503T010000Z
DTEND:20250503T060000Z
LOCATION:Epiphany Center For The Arts: Epiphany Hall 201 S Ashland Ave\,  Chicago\,  IL 60607
SUMMARY:Cumbia Cathedral
DESCRIPTION:Cumbia Cathedral Date: Friday\,  May 2nd\,  2025 Doors: 5:00PM 
 to Venue | 7:00PM to Epiphany Hall Showtime: 8:00PM Tickets: Advanced (Stan
 ding)- $15 | Day of Show (Standing)- $25 | VIP Table for 2- $100 (SOLD OUT)
  | VIP Table for 4- $200 (SOLD OUT) ‘Service charges apply to ALL ticket[
 ..]\nhttps://epiphanychi.com/events/cumbia-cathedral/
URL:https://epiphanychi.com/events/cumbia-cathedral/
END:VEVENT
END:VCALENDAR