BEGIN:VCALENDAR
VERSION:2.0
PRODID:-//eventon.com NONSGML v1.0//EN
CALSCALE:GREGORIAN
METHOD:PUBLISH
BEGIN:VEVENT
UID:69eb9744c0a55
DTSTAMP:20260424T161604Z
DTSTART:20250501T233000Z
DTEND:20250502T003000Z
LOCATION:Epiphany Center for the Arts: Chase Gallery 201 S Ashland Ave
SUMMARY:ARTIST TALK WITH KATRIN SCHNABL
DESCRIPTION:Please join Katrin Schnabl on Thursday\,  May 1st at 6:30pm for
  an artist talk\,  discussing her current solo exhibition QUALIA\,  in the 
 Chase Gallery at Epiphany Center for the Arts. QUALIA is an invitation for 
 an amplified embodied sensory experience - the way it feels to “feel.” 
 Quale (s)/ qualia(pl)\, [..]\nhttps://epiphanychi.com/events/artist-talk-wi
 th-katrin-schnabl/
URL:https://epiphanychi.com/events/artist-talk-with-katrin-schnabl/
END:VEVENT
END:VCALENDAR