BEGIN:VCALENDAR
VERSION:2.0
PRODID:-//eventon.com NONSGML v1.0//EN
CALSCALE:GREGORIAN
METHOD:PUBLISH
BEGIN:VEVENT
UID:69e9010085094
DTSTAMP:20260422T171024Z
DTSTART:20250802T040000Z
DTEND:20250802T063000Z
LOCATION:Epiphany Center For The Arts: Epiphany Hall 201 S Ashland Ave\,  Chicago\,  IL 60607
SUMMARY:Epiphany Center for the Arts and C3 Presents: Wasia Project Official Lolla Aftershow
DESCRIPTION:Epiphany Center for the Arts and C3 Presents: Wasia Project Off
 icial Lolla Aftershow  Date: Friday\,  August 1st\,  2025 Doors: 10:00PM S
 howtime: 11:00PM Tickets: General Admission - $30 | VIP Table for 2- $80 | 
 VIP Table for 4 - $160 ‘Service charges apply to ALL ticket purchases (on
 line and box[..]\nhttps://epiphanychi.com/events/epiphany-center-for-the-ar
 ts-and-c3-presents-wasia-project-official-lolla-aftershow/
URL:https://epiphanychi.com/events/epiphany-center-for-the-arts-and-c3-presents-wasia-project-official-lolla-aftershow/
END:VEVENT
END:VCALENDAR