BEGIN:VCALENDAR
VERSION:2.0
PRODID:-//eventon.com NONSGML v1.0//EN
CALSCALE:GREGORIAN
METHOD:PUBLISH
BEGIN:VEVENT
UID:69e57fcb3624d
DTSTAMP:20260420T012219Z
DTSTART:20250608T210000Z
DTEND:20250608T230000Z
LOCATION:Epiphany Center For The Arts: The Courtyard 201 S Ashland Ave\,  Chicago\,  IL 60607
SUMMARY:Honey & Harmony with Amyna Love\,  Nashon Holloway & Alysha Monique
DESCRIPTION:Honey &amp; Harmony with Amyna Love\,  Nashon Holloway &amp; Al
 ysha Monique Date: Sunday\,  June 8th\,  2025 Doors: 3:30PM Showtime: 4:00P
 M RAIN OR SHINE! Tickets: Advanced - $20 | Day of Show - $25 ‘Service cha
 rges apply to ALL ticket purchases (online and box office)’ - Credit card
  only at door[..]\nhttps://epiphanychi.com/events/honey-harmony-with-amyna-
 love-nashon-holloway-alysha-monique/
URL:https://epiphanychi.com/events/honey-harmony-with-amyna-love-nashon-holloway-alysha-monique/
END:VEVENT
END:VCALENDAR