BEGIN:VCALENDAR
VERSION:2.0
PRODID:-//eventon.com NONSGML v1.0//EN
CALSCALE:GREGORIAN
METHOD:PUBLISH
BEGIN:VEVENT
UID:69e8730901a00
DTSTAMP:20260422T070441Z
DTSTART:20250619T003000Z
DTEND:20250619T020000Z
LOCATION:Epiphany Center For The Arts: The Sanctuary 201 S Ashland Ave\,  Chicago\,  IL 60607
SUMMARY:Sam Robinson Quintet
DESCRIPTION:Sam Robinson Quintet Date: Wednesday\,  June 18th\,  2025 Doors
 : 5:00PM to Venue | 7:00PM to Sanctuary Showtime: 7:30PM Tickets: Advanced 
 - $20 | Day of Show - $25 ‘Service charges apply to ALL ticket purchases 
 (online and box office)’ - Credit card only at door About Sam Robinson Qu
 intet: Since[..]\nhttps://epiphanychi.com/events/sam-robinson-quintet/
URL:https://epiphanychi.com/events/sam-robinson-quintet/
END:VEVENT
END:VCALENDAR