BEGIN:VCALENDAR
VERSION:2.0
PRODID:-//eventon.com NONSGML v1.0//EN
CALSCALE:GREGORIAN
METHOD:PUBLISH
BEGIN:VEVENT
UID:69e746ffd7f56
DTSTAMP:20260421T094431Z
DTSTART:20250627T220000Z
DTEND:20250628T010000Z
LOCATION:Epiphany Center For The Arts: Café Bar 201 S Ashland Ave\,  Chicago\,  IL 60607
SUMMARY:Golden Hour Featuring DJ Invicta
DESCRIPTION:Join us in the Cafe Bar Thursday through Saturday for free live
  music\,  starting at 5PM until 8PM. Enjoy our exclusive food and drink spe
 cials until 7PM! Golden Hour at Epiphany Center for the Arts is accentuated
  by free live music with food and drink specials\,  and\,  good friends… 
 creating[..]\nhttps://epiphanychi.com/events/golden-hour-featuring-dj-invic
 ta/
URL:https://epiphanychi.com/events/golden-hour-featuring-dj-invicta/
END:VEVENT
END:VCALENDAR