BEGIN:VCALENDAR
VERSION:2.0
PRODID:-//eventon.com NONSGML v1.0//EN
CALSCALE:GREGORIAN
METHOD:PUBLISH
BEGIN:VEVENT
UID:69e90abcde854
DTSTAMP:20260422T175156Z
DTSTART:20250815T003000Z
DTEND:20250815T023000Z
LOCATION:Epiphany Center For The Arts: The Sanctuary 201 S Ashland Ave\,  Chicago\,  IL 60607
SUMMARY:Chicago Cabaret Professionals Emerging Artists Showcase featuring the Denise Tomasello Cabaret Scholarship
DESCRIPTION:Chicago Cabaret Professionals Emerging Artists Showcase featuri
 ng the Denise Tomasello Cabaret Scholarship Date: Thursday\,  August 14th\,
   2025 Doors: 5:00PM to Venue | 7:00PM to Sanctuary Showtime: 7:30PM Ticket
 s: General Admission - $25 | VIP Table for 2 - $80 VIP tables include admis
 sion for 2 people and a reserved table[..]\nhttps://epiphanychi.com/events/
 emerging-artists/
URL:https://epiphanychi.com/events/emerging-artists/
END:VEVENT
END:VCALENDAR