BEGIN:VCALENDAR
VERSION:2.0
PRODID:-//eventon.com NONSGML v1.0//EN
CALSCALE:GREGORIAN
METHOD:PUBLISH
BEGIN:VEVENT
UID:69e67c8193830
DTSTAMP:20260420T192033Z
DTSTART:20250808T010000Z
DTEND:20250808T030000Z
LOCATION:Epiphany Center For The Arts: The Sanctuary 201 S Ashland Ave\,  Chicago\,  IL 60607
SUMMARY:What's Left of Philosophy Live Show: Karl Marx's Communist Manifesto
DESCRIPTION:What's Left of Philosophy Live Show: Karl Marx's Communist Mani
 festo Date: Thursday\,  August 7\,  2025 Doors: 5PM for Golden Hour  Showt
 ime: 8PM  Tickets: $25 - Advanced | $30 - Day of show  About:  What's Le
 ft of Philosophy is a podcast by four philosopher friends who talk about co
 ncepts\,  thinkers\,  and[..]\nhttps://epiphanychi.com/events/whats-left-of
 -philosophy-live-show-karl-marxs-communist-manifesto/
URL:https://epiphanychi.com/events/whats-left-of-philosophy-live-show-karl-marxs-communist-manifesto/
END:VEVENT
END:VCALENDAR