BEGIN:VCALENDAR
VERSION:2.0
PRODID:-//eventon.com NONSGML v1.0//EN
CALSCALE:GREGORIAN
METHOD:PUBLISH
BEGIN:VEVENT
UID:69e4e98fc860f
DTSTAMP:20260419T144119Z
DTSTART:20250810T170000Z
DTEND:20250810T210000Z
LOCATION:Epiphany Center For The Arts: Epiphany Hall 201 S Ashland Ave\,  Chicago\,  IL 60607
SUMMARY:THE FUTURE VOYAGERS EXHIBIT: Sunday Sanctuary\,  A Wellness Experience
DESCRIPTION:THE FUTURE VOYAGERS EXHIBIT: Sunday Sanctuary\,  A Wellness Exp
 erience Date: Sunday\,  August 10th\,  2025 Session 1: 12:00PM-1:30PM Sessi
 on 2: 2:00PM-4:00PM Tickets: Session 1 - $35 | Session 2 - $35 ‘Service c
 harges apply to ALL ticket purchases (online and box office)’ - Credit ca
 rd only at door About: Close the[..]\nhttps://epiphanychi.com/events/the-fu
 ture-voyagers-exhibit-sunday-sanctuary/
URL:https://epiphanychi.com/events/the-future-voyagers-exhibit-sunday-sanctuary/
END:VEVENT
END:VCALENDAR