BEGIN:VCALENDAR
VERSION:2.0
PRODID:-//eventon.com NONSGML v1.0//EN
CALSCALE:GREGORIAN
METHOD:PUBLISH
BEGIN:VEVENT
UID:69e950db33449
DTSTAMP:20260422T225107Z
DTSTART:20250919T230000Z
DTEND:20250920T020000Z
LOCATION:Art Event
SUMMARY:The Opening Reception of Margaret Crowley’s exhibit\,  <i> Birthday</i>
DESCRIPTION:Attend the opening reception on Friday\,  September 19th\,  fro
 m 6:00-9:00pm. My 1.5 year old son says only a handful of words- wow\,  mom
 ma\,  daddy\,  ball\,  truck\,  fraise\,  ciao. The week I committed to thi
 s exhibition at Epiphany\,  he added a new word: birthday. Birthday is abou
 t how scary it is[..]\nhttps://epiphanychi.com/the-opening-reception-of-mar
 garet-crowleys-exhibit-birthday/
URL:https://epiphanychi.com/the-opening-reception-of-margaret-crowleys-exhibit-birthday/
END:VEVENT
END:VCALENDAR