BEGIN:VCALENDAR
VERSION:2.0
PRODID:-//eventon.com NONSGML v1.0//EN
CALSCALE:GREGORIAN
METHOD:PUBLISH
BEGIN:VEVENT
UID:69e93789003b3
DTSTAMP:20260422T210305Z
DTSTART:20250919T230000Z
DTEND:20250920T020000Z
LOCATION:Art Event
SUMMARY:The Opening Reception of WERIEM’s <i>L’esprit de Pierrot</i>
DESCRIPTION:Attend the opening reception for WERIEM’s L’esprit de Pierr
 ot on Friday\,  September 19th\,  from 6:00-9:00pm. This series of painting
 s and drawings explores the enduring spirit of Pierrot—the iconic French 
 character who embodies poetic vulnerability\,  theatrical grace\,  and quie
 t melancholy. L'esprit de Pierrot (The Spirit of Pierrot) is not a characte
 r[..]\nhttps://epiphanychi.com/events/the-opening-reception-of-weriems-lesp
 rit-de-pierrot/
URL:https://epiphanychi.com/events/the-opening-reception-of-weriems-lesprit-de-pierrot/
END:VEVENT
END:VCALENDAR