BEGIN:VCALENDAR
VERSION:2.0
PRODID:-//eventon.com NONSGML v1.0//EN
CALSCALE:GREGORIAN
METHOD:PUBLISH
BEGIN:VEVENT
UID:69e721013abb7
DTSTAMP:20260421T070225Z
DTSTART:20251122T233000Z
DTEND:20251123T000000Z
LOCATION:Art Event
SUMMARY:Closing Performance of Liz McCarthy’s exhibit\,  <i> Imperfect Players</i>
DESCRIPTION:Attend the closing performance for Liz McCarthy’s Imperfect P
 layers on Saturday\,  November 22nd\,  from 5:30-6:00pm. ________ Imperfect
  Players is a collection of ceramic vessels that can be performed as musica
 l instruments and accompanied by drawings. I worked at an auction house cre
 ating condition reports for fine and decorative art. These[..]\nhttps://epi
 phanychi.com/closing-performance-of-liz-mccarthys-exhibit-imperfect-players
 /
URL:https://epiphanychi.com/closing-performance-of-liz-mccarthys-exhibit-imperfect-players/
END:VEVENT
END:VCALENDAR