BEGIN:VCALENDAR
VERSION:2.0
PRODID:-//eventon.com NONSGML v1.0//EN
CALSCALE:GREGORIAN
METHOD:PUBLISH
BEGIN:VEVENT
UID:69e939dfd7f3f
DTSTAMP:20260422T211303Z
DTSTART:20250919T230000Z
DTEND:20250920T020000Z
LOCATION:Art Event
SUMMARY:The Opening Reception of Liz McCarthy’s exhibit\,  <i>Imperfect Players</i>
DESCRIPTION:Attend the opening reception for Liz McCarthy’s Imperfect Pla
 yers on Friday\,  September 19th\,  from 6:00-9:00pm. Imperfect Players is 
 a collection of ceramic vessels that can be performed as musical instrument
 s and accompanied by drawings. I worked at an auction house creating condit
 ion reports for fine and decorative art. These objects[..]\nhttps://epiphan
 ychi.com/events/the-opening-reception-of-liz-mccarthys-exhibit-imperfect-pl
 ayers/
URL:https://epiphanychi.com/events/the-opening-reception-of-liz-mccarthys-exhibit-imperfect-players/
END:VEVENT
END:VCALENDAR