BEGIN:VCALENDAR
VERSION:2.0
PRODID:-//eventon.com NONSGML v1.0//EN
CALSCALE:GREGORIAN
METHOD:PUBLISH
BEGIN:VEVENT
UID:69e7a5886b219
DTSTAMP:20260421T162752Z
DTSTART:20251123T013000Z
DTEND:20251123T043000Z
LOCATION:Epiphany Center For The Arts: Epiphany Hall 201 S Ashland Ave\,  Chicago\,  IL 60607
SUMMARY:Mr. Blotto
DESCRIPTION:Mr. Blotto Date: Saturday\,  November 22nd\,  2025 Doors: 5:00P
 M to Venue | 7:00PM to Epiphany Hall Showtime: 7:30PM Tickets: Advanced - $
 20 | Day of Show - $25 ‘Service charges apply to ALL ticket purchases (on
 line and box office)’ - Credit card only at door About: Mr. Blotto is Chi
 cago’s[..]\nhttps://epiphanychi.com/events/mr-blotto/
URL:https://epiphanychi.com/events/mr-blotto/
END:VEVENT
END:VCALENDAR