BEGIN:VCALENDAR
VERSION:2.0
PRODID:-//eventon.com NONSGML v1.0//EN
CALSCALE:GREGORIAN
METHOD:PUBLISH
BEGIN:VEVENT
UID:69e7cebc17197
DTSTAMP:20260421T192340Z
DTSTART:20251213T020000Z
DTEND:20251213T033000Z
LOCATION:Epiphany Center For The Arts: Epiphany Hall 201 S Ashland Ave\,  Chicago\,  IL 60607
SUMMARY:Ana Everling & Grażyna Auguścik: Pagan Carols From The East
DESCRIPTION:Ana Everling &amp; Grażyna Auguścik: Pagan Carols From The E
 ast Date: Friday\,  December 12th\,  2025 Doors: 5:00PM to Venue | 7:30PM t
 o Epiphany Hall Showtime: 8:00PM Tickets: General Admission - $40 (+$8.00 f
 ees\,  including tax) ‘Service charges apply to ALL ticket purchases (onl
 ine and box office)’ - Credit card only at[..]\nhttps://epiphanychi.com/e
 vents/ana-everling-grazyna-auguscik-pagan-carols-from-the-east/
URL:https://epiphanychi.com/events/ana-everling-grazyna-auguscik-pagan-carols-from-the-east/
END:VEVENT
END:VCALENDAR