BEGIN:VCALENDAR
VERSION:2.0
PRODID:-//eventon.com NONSGML v1.0//EN
CALSCALE:GREGORIAN
METHOD:PUBLISH
BEGIN:VEVENT
UID:69e768cf9b295
DTSTAMP:20260421T120847Z
DTSTART:20251214T013000Z
DTEND:20251214T030000Z
LOCATION:Epiphany Center For The Arts: Epiphany Hall 201 S Ashland Ave\,  Chicago\,  IL 60607
SUMMARY:Thee Ricky Harris Christmas Cabaret
DESCRIPTION:Thee Ricky Harris Christmas Cabaret Date: Saturday\,  December 
 13th\,  2025 Doors: 5:00PM to Venue | 7:00PM to Sanctuary Showtime: 7:30PM 
 Tickets: General Admission - $35 (+$7.00 fees\,  including tax) | VIP Table
  for 2 - $80 (+$16.00 fees\,  including tax) | VIP Table for 4 - $160 (+$32
 .00 fees\,  including[..]\nhttps://epiphanychi.com/events/thee-ricky-harris
 -christmas-cabaret/
URL:https://epiphanychi.com/events/thee-ricky-harris-christmas-cabaret/
END:VEVENT
END:VCALENDAR