BEGIN:VCALENDAR
VERSION:2.0
PRODID:-//eventon.com NONSGML v1.0//EN
CALSCALE:GREGORIAN
METHOD:PUBLISH
BEGIN:VEVENT
UID:69e886adeb8ba
DTSTAMP:20260422T082829Z
DTSTART:20251205T013000Z
DTEND:20251205T030000Z
LOCATION:Epiphany Center For The Arts: The Sanctuary 201 S Ashland Ave\,  Chicago\,  IL 60607
SUMMARY:Ian Maksin “Lullaby For The World”  New Album Release Tour
DESCRIPTION:Ian Maksin “Lullaby For The World” New Album Release Tour D
 ate: Thursday\,  December 4th\,  2025 Doors: 5:00PM to Venue | 7:00PM to Sa
 nctuary Showtime: 7:30PM Tickets: Advanced - $30 | Day of Show - $35 | 3-Ti
 cket Package - $25 each | VIP Table for 2 - $80 | VIP[..]\nhttps://epiphany
 chi.com/events/ian-maksin-4/
URL:https://epiphanychi.com/events/ian-maksin-4/
END:VEVENT
END:VCALENDAR