BEGIN:VCALENDAR
VERSION:2.0
PRODID:-//eventon.com NONSGML v1.0//EN
CALSCALE:GREGORIAN
METHOD:PUBLISH
BEGIN:VEVENT
UID:69ea19d01e696
DTSTAMP:20260423T130832Z
DTSTART:20260426T230000Z
DTEND:20260427T003000Z
LOCATION:Epiphany Center For The Arts: Epiphany Hall 201 S Ashland Ave\,  Chicago\,  IL 60607
SUMMARY:Notes for Peace Reunion
DESCRIPTION:Notes for Peace Reunion Date: Sunday\,  April 26th\,  2026 Door
 s: 5:30PM Showtime: 6:00PM Tickets: Free Admission! | RSVP Below! Disclaime
 r - This event will be recorded! About: In collaboration with Purpose Over 
 Pain\,  the Negaunee Music Institute at the Chicago Symphony Orchestra pres
 ents this special concert celebrating eight years of[..]\nhttps://epiphanyc
 hi.com/events/notes-for-peace-reunion-2/
URL:https://epiphanychi.com/events/notes-for-peace-reunion-2/
END:VEVENT
END:VCALENDAR