BEGIN:VCALENDAR
VERSION:2.0
PRODID:-//eventon.com NONSGML v1.0//EN
CALSCALE:GREGORIAN
METHOD:PUBLISH
BEGIN:VEVENT
UID:69eae82f342f7
DTSTAMP:20260424T034903Z
DTSTART:20251206T013000Z
DTEND:20251206T033000Z
LOCATION:Epiphany Center For The Arts: Epiphany Hall 201 S Ashland Ave\,  Chicago\,  IL 60607
SUMMARY:Free Blues Friday featuring Cat Gaddis Project
DESCRIPTION:Free Blues Friday featuring Cat Gaddis Project Date: Friday\,  
 December 5th\,  2025 Doors: 5:00PM to Venue | 7:00PM to Epiphany Hall Showt
 ime: 7:30PM Tickets: Free admission! RSVP BELOW About: We are the Cat Gaddi
 s Project - an awesome Blues and R&amp;B Band with talented Chicago area mu
 sicians. Cat Gaddis Project[..]\nhttps://epiphanychi.com/events/free-blues-
 friday-featuring-cat-gaddis-project/
URL:https://epiphanychi.com/events/free-blues-friday-featuring-cat-gaddis-project/
END:VEVENT
END:VCALENDAR