BEGIN:VCALENDAR
VERSION:2.0
PRODID:-//eventon.com NONSGML v1.0//EN
CALSCALE:GREGORIAN
METHOD:PUBLISH
BEGIN:VEVENT
UID:69e7347931319
DTSTAMP:20260421T082529Z
DTSTART:20260110T013000Z
DTEND:20260110T033000Z
LOCATION:Epiphany Center For The Arts: Epiphany Hall 201 S Ashland Ave\,  Chicago\,  IL 60607
SUMMARY:Free Blues Friday Featuring Stefan Hillesheim Trio
DESCRIPTION:Free Blues Friday Featuring Stefan Hillesheim Trio Date: Friday
 \,  January 9th\,  2026 Doors: 5:00PM to Venue | 7:00PM to Epiphany Hall Sh
 owtime: 7:30PM Tickets: FREE ADMISSION | RSVP BELOW About: Stefan Hilleshei
 m is a German Native who moved to Los Angeles\,  California at age 27 to at
 tend Musicians Institute (GIT)[..]\nhttps://epiphanychi.com/events/free-blu
 es-friday-featuring-stefan-hillesheim-trio/
URL:https://epiphanychi.com/events/free-blues-friday-featuring-stefan-hillesheim-trio/
END:VEVENT
END:VCALENDAR