BEGIN:VCALENDAR
VERSION:2.0
PRODID:-//eventon.com NONSGML v1.0//EN
CALSCALE:GREGORIAN
METHOD:PUBLISH
BEGIN:VEVENT
UID:69e734b016aee
DTSTAMP:20260421T082624Z
DTSTART:20260105T000000Z
DTEND:20260105T033000Z
LOCATION:Epiphany Center For The Arts: Epiphany Hall 201 S Ashland Ave\,  Chicago\,  IL 60607
SUMMARY:Outcast Jazz Band's Big Band Dance Party
DESCRIPTION:Outcast Jazz Band's Big Band Dance Party Date: Sunday\,  Januar
 y 4th\,  2026 Doors: 5:00PMĀ  Traffic Jam! Swing Dance Lesson: 6:00-6:30PMĀ
   Showtime: 6:30PM Intermediate Swing Dance Lesson 7:15-7:45 PM (in between
  first and second set) Tickets: Early Bird - $10 (+$4.42 fees\,  including 
 tax) | General Admission - $20 (+$4.72 fees\, [..]\nhttps://epiphanychi.com
 /events/outcast-jazz-bands-big-band-dance-party-1-4-26/
URL:https://epiphanychi.com/events/outcast-jazz-bands-big-band-dance-party-1-4-26/
END:VEVENT
END:VCALENDAR