BEGIN:VCALENDAR
VERSION:2.0
PRODID:-//eventon.com NONSGML v1.0//EN
CALSCALE:GREGORIAN
METHOD:PUBLISH
BEGIN:VEVENT
UID:69e734774b348
DTSTAMP:20260421T082527Z
DTSTART:20251120T010000Z
DTEND:20251120T063000Z
LOCATION:Epiphany Center For The Arts: Epiphany Hall 201 S Ashland Ave\,  Chicago\,  IL 60607
SUMMARY:Bachata on a School Night
DESCRIPTION:Bachata on a School Night Date: Wednesday\,  November 19th\,  2
 025 Doors &amp; Showtime: 7:00PM Tickets: Early Bird - $5 (First 25 tickets
 ) | Advanced - $10 | Day of Show - $15 ‘Service charges apply to ALL tick
 et purchases (online and box office)’ - Credit card only at door About:[.
 .]\nhttps://epiphanychi.com/events/bachata-on-a-school-night/
URL:https://epiphanychi.com/events/bachata-on-a-school-night/
END:VEVENT
END:VCALENDAR