BEGIN:VCALENDAR
VERSION:2.0
PRODID:-//eventon.com NONSGML v1.0//EN
CALSCALE:GREGORIAN
METHOD:PUBLISH
BEGIN:VEVENT
UID:69e76dead203c
DTSTAMP:20260421T123034Z
DTSTART:20251114T230000Z
DTEND:20251115T020000Z
LOCATION:Art Event
SUMMARY:Lumpia Fusion: Closing Reception & Celebration
DESCRIPTION:Attend the closing reception for Lumpia Fusion on Friday\,  Nov
 ember 14th\,  from 5:00-8:00pm. You are invited to the grand finale of "Lum
 pia Fusion: Filipino Americans at a Cultural Crossroads." Celebrate this vi
 brant exhibition with an evening of art\,  conversation\,  and live music! 
 The reception takes place on Friday\,  November 14th\, [..]\nhttps://epipha
 nychi.com/lumpia-fusion-closing-reception-celebration/
URL:https://epiphanychi.com/lumpia-fusion-closing-reception-celebration/
END:VEVENT
END:VCALENDAR