BEGIN:VCALENDAR
VERSION:2.0
PRODID:-//eventon.com NONSGML v1.0//EN
CALSCALE:GREGORIAN
METHOD:PUBLISH
BEGIN:VEVENT
UID:69e90437dd254
DTSTAMP:20260422T172407Z
DTSTART:20251231T010000Z
DTEND:20251231T033000Z
LOCATION:Epiphany Center For The Arts: The Sanctuary 201 S Ashland Ave\,  Chicago\,  IL 60607
SUMMARY:SOLD OUT!!! Anne & Mark Burnell's 22nd Annual Eve of the Eve
DESCRIPTION:SOLD OUT!!! Anne &amp; Mark Burnell's 22nd Annual Eve of the Ev
 e Date: Tuesday\,  December 30th\,  2025 Doors: 6:00PM Showtime: 7:00PM Tic
 kets: General Admission - $35 (+$7.00 fees\,  including tax) VIP Table for 
 2 - $90 (+$18.00 fees\,  including tax) VIP Table for 4 - $180 (+$22.91 fee
 s\,  including tax)[..]\nhttps://epiphanychi.com/events/anne-mark-burnells-
 22nd-annual-eve-of-the-eve/
URL:https://epiphanychi.com/events/anne-mark-burnells-22nd-annual-eve-of-the-eve/
END:VEVENT
END:VCALENDAR