BEGIN:VCALENDAR
VERSION:2.0
PRODID:-//eventon.com NONSGML v1.0//EN
CALSCALE:GREGORIAN
METHOD:PUBLISH
BEGIN:VEVENT
UID:69eb1b7830af8
DTSTAMP:20260424T072752Z
DTSTART:20260202T010000Z
DTEND:20260202T030000Z
LOCATION:Epiphany Center For The Arts: The Sanctuary 201 S Ashland Ave\,  Chicago\,  IL 60607
SUMMARY:Karim Nagi & Huzam Ensemble
DESCRIPTION:Karim Nagi &amp; Huzam Ensemble Date: Sunday\,  February 1st\, 
  2026 Doors: 6:30PM Showtime: 7:00PM Tickets: Adult - $20 (+$4.72 fees\,  i
 ncluding tax) Youth (Under 18) - $10 (+$4.42 fees\,  including tax) ‘Serv
 ice charges apply to ALL ticket purchases (online and box office)’ - Cred
 it card only at door About: Lead[..]\nhttps://epiphanychi.com/events/karim-
 nagi-huzam-ensemble/
URL:https://epiphanychi.com/events/karim-nagi-huzam-ensemble/
END:VEVENT
END:VCALENDAR