BEGIN:VCALENDAR
VERSION:2.0
PRODID:-//eventon.com NONSGML v1.0//EN
CALSCALE:GREGORIAN
METHOD:PUBLISH
BEGIN:VEVENT
UID:69e4d57961b61
DTSTAMP:20260419T131537Z
DTSTART:20251214T200000Z
DTEND:20251214T230000Z
LOCATION:Art Event
SUMMARY:The Opening Reception of  <b>Hope Is the Last Thing by Rebecca Keller<b/>
DESCRIPTION:Attend the opening reception for Hope Is the Last Thing by Rebe
 cca Keller on Sunday\,  December 14th\,  from 2:00-5:00pm. The works in thi
 s exhibition are inspired by Epiphany Center for the Arts’ history as a c
 hurch building\,  especially the dedicatory plaque hung around the corner i
 n the hall. The grey[..]\nhttps://epiphanychi.com/the-opening-reception-of-
 hope-is-the-last-thing-by-rebecca-keller/
URL:https://epiphanychi.com/the-opening-reception-of-hope-is-the-last-thing-by-rebecca-keller/
END:VEVENT
END:VCALENDAR