BEGIN:VCALENDAR
VERSION:2.0
PRODID:-//eventon.com NONSGML v1.0//EN
CALSCALE:GREGORIAN
METHOD:PUBLISH
BEGIN:VEVENT
UID:69e73456e0b19
DTSTAMP:20260421T082454Z
DTSTART:20251215T013000Z
DTEND:20251215T033000Z
LOCATION:Epiphany Center For The Arts: The Sanctuary 201 S Ashland Ave\,  Chicago\,  IL 60607
SUMMARY:Lester does Luther
DESCRIPTION:Lester does Luther Date: Sunday\,  December 14th\,  2025 Doors:
  7:00PM Showtime: 7:30PM Tickets: Advanced - $30 (+$6.00 fees\,  including 
 tax) | Day of Show - $40 (+$8.00 fees\,  including tax) | VIP Table for 2 -
  $125 (+$21.26 fees\,  including tax) | VIP Table for 4 - $250 (+$25.01 fee
 s\, [..]\nhttps://epiphanychi.com/events/lester-does-luther/
URL:https://epiphanychi.com/events/lester-does-luther/
END:VEVENT
END:VCALENDAR