BEGIN:VCALENDAR
VERSION:2.0
PRODID:-//eventon.com NONSGML v1.0//EN
CALSCALE:GREGORIAN
METHOD:PUBLISH
BEGIN:VEVENT
UID:69e74a043867b
DTSTAMP:20260421T095724Z
DTSTART:20251214T200000Z
DTEND:20251214T230000Z
LOCATION:Art Event
SUMMARY:The Opening Reception of  <b> How Could We Forget About You by Noel Mercado<b/>
DESCRIPTION:Attend the opening reception for  How Could We Forget About Yo
 u by Noel Mercado on Sunday\,  December 14th\,  from 2:00-5:00pm. What have
  you forgotten? When you found it or rediscovered it were you happy\,  sad\
 ,  annoyed\,  delighted\,  regretful? It was once important and then it bec
 ame forgotten. What is new[..]\nhttps://epiphanychi.com/the-opening-recepti
 on-of-how-could-we-forget-about-you-by-noel-mercado/
URL:https://epiphanychi.com/the-opening-reception-of-how-could-we-forget-about-you-by-noel-mercado/
END:VEVENT
END:VCALENDAR