BEGIN:VCALENDAR
VERSION:2.0
PRODID:-//eventon.com NONSGML v1.0//EN
CALSCALE:GREGORIAN
METHOD:PUBLISH
BEGIN:VEVENT
UID:69e9031678cee
DTSTAMP:20260422T171918Z
DTSTART:20260201T040000Z
DTEND:20260201T083000Z
LOCATION:Epiphany Center For The Arts: The Catacombs 201 S Ashland Ave\,  Chicago\,  IL 60607
SUMMARY:ECLIPSE 4.0
DESCRIPTION:ECLIPSE 4.0 Date: Saturday\,  January 31st\,  2026 Doors &amp; 
 Showtime: 10:00PM Tickets: Tier 1 - $25 (+$5.13 fees\,  including tax) Tier
  2 - $30 (+$6.57 fees\,  including tax) Tier 3 - $35 (+$7.23 fees\,  includ
 ing tax) Tier 4 - $45 (+$8.82 fees\,  including tax) ‘Service charges app
 ly to ALL ticket[..]\nhttps://epiphanychi.com/events/eclipse-1-31/
URL:https://epiphanychi.com/events/eclipse-1-31/
END:VEVENT
END:VCALENDAR