BEGIN:VCALENDAR
VERSION:2.0
PRODID:-//eventon.com NONSGML v1.0//EN
CALSCALE:GREGORIAN
METHOD:PUBLISH
BEGIN:VEVENT
UID:69eba82606a26
DTSTAMP:20260424T172806Z
DTSTART:20260131T020000Z
DTEND:20260131T040000Z
LOCATION:Epiphany Center For The Arts: The Sanctuary 201 S Ashland Ave\,  Chicago\,  IL 60607
SUMMARY:The Devil Said Jump & Shannon Marie with Glass-Beagle
DESCRIPTION:The Devil Said Jump &amp; Shannon Marie with Glass-Beagle Date:
  Friday\,  January 30th\,  2026 Doors: 5:00PM to Venue | 7:30PM to Sanctuar
 y Showtime: 8:00PM Tickets: Advanced - $15 (+$4.57 fees\,  including tax) 
  | Day of Show - $20 (+$4.72 fees\,  including tax) ‘Service charges appl
 y to ALL ticket purchases (online[..]\nhttps://epiphanychi.com/events/the-d
 evil-said-jump-shannon-marie-with-glass-beagle/
URL:https://epiphanychi.com/events/the-devil-said-jump-shannon-marie-with-glass-beagle/
END:VEVENT
END:VCALENDAR