BEGIN:VCALENDAR
VERSION:2.0
PRODID:-//eventon.com NONSGML v1.0//EN
CALSCALE:GREGORIAN
METHOD:PUBLISH
BEGIN:VEVENT
UID:69e59b3909ce9
DTSTAMP:20260420T031921Z
DTSTART:20260419T233000Z
DTEND:20260420T010000Z
LOCATION:Epiphany Center For The Arts: The Sanctuary 201 S Ashland Ave\,  Chicago\,  IL 60607
SUMMARY:SOLD OUT!!! Music 4 Your Soul w/ Ken Fobs
DESCRIPTION:SOLD OUT!!! Music 4 Your Soul w/ Ken Fobs Date: Sunday\,  April
  19\,  2026 Doors: 6:00PM Showtime: 6:30PM Tickets: General Admission - $25
  (+$5.13 fees\,  including tax) VIP Table for 2 - $70 (+$14.46 fees\,  incl
 uding tax) VIP Table for 4 - $140 (+$16.56 fees\,  including tax) VIP table
 s include[..]\nhttps://epiphanychi.com/events/music-4-your-soul-w-ken-fobs/
URL:https://epiphanychi.com/events/music-4-your-soul-w-ken-fobs/
END:VEVENT
END:VCALENDAR