BEGIN:VCALENDAR
VERSION:2.0
PRODID:-//eventon.com NONSGML v1.0//EN
CALSCALE:GREGORIAN
METHOD:PUBLISH
BEGIN:VEVENT
UID:69eba7c616542
DTSTAMP:20260424T172630Z
DTSTART:20260711T003000Z
DTEND:20260711T020000Z
LOCATION:Epiphany Center For The Arts: Chase House 201 S Ashland Ave\,  Chicago\,  IL 60607
SUMMARY:Sixty-Five 14
DESCRIPTION:Sixty-Five 14 Date: Friday\,  July 10th\,  2026 Doors: 5:00PM t
 o Venue | 7:00PM to Chase House Showtime: 7:30PM Tickets: Industry - $15 (+
 $4.57 fees\,  including tax) Advanced - $20 (+$4.72 fees\,  including tax) 
 Day of Show - $25 (+$5.13 fees\,  including tax) ‘Service charges apply t
 o ALL ticket purchases (online[..]\nhttps://epiphanychi.com/events/sixty-fi
 ve-14/
URL:https://epiphanychi.com/events/sixty-five-14/
END:VEVENT
END:VCALENDAR