BEGIN:VCALENDAR
VERSION:2.0
PRODID:-//eventon.com NONSGML v1.0//EN
CALSCALE:GREGORIAN
METHOD:PUBLISH
BEGIN:VEVENT
UID:69e59b057a900
DTSTAMP:20260420T031829Z
DTSTART:20260502T003000Z
DTEND:20260502T023000Z
LOCATION:Epiphany Center For The Arts: Epiphany Hall 201 S Ashland Ave\,  Chicago\,  IL 60607
SUMMARY:Maia and Teofilovići ~ Balkan Expressive: Songs of longing and love  (feat. Goran Ivanović/guitar)
DESCRIPTION:Maia and Teofilovići ~ Balkan Expressive: Songs of longing and
  love (feat. Goran Ivanović/guitar) Date: Friday\,  May 1st\,  2026 Doors:
  5:00PM to Venue | 6:30PM to Epiphany Hall Showtime: 7:30PM Tickets: Advanc
 ed - $30 (+$6.57 fees\,  including tax) Day of Show - $35 (+$7.23 fees\,  i
 ncluding tax) VIP Table for[..]\nhttps://epiphanychi.com/events/maia-and-fr
 iends-present-balkan-expressive-songs-of-longing-and-love-feat-goran-ivanov
 ic-guitar/
URL:https://epiphanychi.com/events/maia-and-friends-present-balkan-expressive-songs-of-longing-and-love-feat-goran-ivanovic-guitar/
END:VEVENT
END:VCALENDAR