BEGIN:VCALENDAR
VERSION:2.0
PRODID:-//eventon.com NONSGML v1.0//EN
CALSCALE:GREGORIAN
METHOD:PUBLISH
BEGIN:VEVENT
UID:69eba72b8af8e
DTSTAMP:20260424T172355Z
DTSTART:20260614T210000Z
DTEND:20260614T230000Z
LOCATION:Epiphany Center For The Arts: The Courtyard 201 S Ashland Ave\,  Chicago\,  IL 60607
SUMMARY:Live on the Lawn Featuring Frank Russell
DESCRIPTION:Live on the Lawn Featuring Frank Russell Date: Sunday\,  June 1
 4th\,  2026 Doors: 3:30PM Showtime: 4:00PM Tickets: Free admission! RSVP BE
 LOW RAIN OR SHINE! About Frank Russell: Acclaimed Chicago Jazz bass guitari
 st Frank Russell is the official bassist for the legendary South African a 
 cappella group Ladysmith Black Mambazo. Frank[..]\nhttps://epiphanychi.com/
 events/live-on-the-lawn-featuring-frank-russell-6-14/
URL:https://epiphanychi.com/events/live-on-the-lawn-featuring-frank-russell-6-14/
END:VEVENT
END:VCALENDAR