BEGIN:VCALENDAR
VERSION:2.0
PRODID:-//eventon.com NONSGML v1.0//EN
CALSCALE:GREGORIAN
METHOD:PUBLISH
BEGIN:VEVENT
UID:69e7a8ca2b161
DTSTAMP:20260421T164146Z
DTSTART:20260621T003000Z
DTEND:20260621T020000Z
LOCATION:Epiphany Center For The Arts: The Sanctuary 201 S Ashland Ave\,  Chicago\,  IL 60607
SUMMARY:Lunar Ticks
DESCRIPTION:Lunar Ticks Date: Saturday\,  June 20th\,  2026 Doors: 5:00PM t
 o Venue | 7:00PM to Sanctuary Showtime: 7:30PM Tickets: Early Bird - $15 (+
 $4.57 fees\,  including tax) Advanced - $20 (+$4.72 fees\,  including tax) 
 Day of Show - $25 (+$5.13 fees\,  including tax) ‘Service charges apply t
 o ALL ticket purchases (online[..]\nhttps://epiphanychi.com/events/lunar-ti
 cks/
URL:https://epiphanychi.com/events/lunar-ticks/
END:VEVENT
END:VCALENDAR