BEGIN:VCALENDAR
VERSION:2.0
PRODID:-//eventon.com NONSGML v1.0//EN
CALSCALE:GREGORIAN
METHOD:PUBLISH
BEGIN:VEVENT
UID:69e59b444edf6
DTSTAMP:20260420T031932Z
DTSTART:20260522T003000Z
DTEND:20260522T020000Z
LOCATION:Epiphany Center For The Arts: The Sanctuary 201 S Ashland Ave\,  Chicago\,  IL 60607
SUMMARY:Fish and the Cats
DESCRIPTION:Fish and the Cats Date: Thursday\,  May 21st\,  2026 Doors: 5:0
 0PM to Venue | 7:00PM to Sanctuary Showtime: 7:30PM Tickets: General Admiss
 ion - $20 (+$4.72 fees\,  including tax) ‘Service charges apply to ALL ti
 cket purchases (online and box office)’ - Credit card only at door About:
  Fish and The Cats[..]\nhttps://epiphanychi.com/events/fish-and-the-cats/
URL:https://epiphanychi.com/events/fish-and-the-cats/
END:VEVENT
END:VCALENDAR